BEGIN:VCALENDAR
VERSION:2.0
PRODID:-//Asia Blogs - ECPv5.2.0//NONSGML v1.0//EN
CALSCALE:GREGORIAN
METHOD:PUBLISH
X-WR-CALNAME:Asia Blogs
X-ORIGINAL-URL:https://asia-blogs.org
X-WR-CALDESC:Events for Asia Blogs
BEGIN:VTIMEZONE
TZID:UTC
BEGIN:STANDARD
TZOFFSETFROM:+0000
TZOFFSETTO:+0000
TZNAME:UTC
DTSTART:20200101T000000
END:STANDARD
END:VTIMEZONE
BEGIN:VEVENT
DTSTART;TZID=UTC:20200810T130000
DTEND;TZID=UTC:20200810T210000
DTSTAMP:20260421T205131
CREATED:20200810T060903Z
LAST-MODIFIED:20200810T073012Z
UID:1057-1597064400-1597093200@asia-blogs.org
SUMMARY:'asia blog': Launch
DESCRIPTION:Official Launch of ‘asia blogs’.
URL:https://asia-blogs.org/event/asia-blog-launch/
END:VEVENT
END:VCALENDAR